BEGIN:VCALENDAR
VERSION:2.0
PRODID:-//Perry County Park District - ECPv6.15.20//NONSGML v1.0//EN
CALSCALE:GREGORIAN
METHOD:PUBLISH
X-ORIGINAL-URL:https://pcparkdistrict.com
X-WR-CALDESC:Events for Perry County Park District
REFRESH-INTERVAL;VALUE=DURATION:PT1H
X-Robots-Tag:noindex
X-PUBLISHED-TTL:PT1H
BEGIN:VTIMEZONE
TZID:America/New_York
BEGIN:DAYLIGHT
TZOFFSETFROM:-0500
TZOFFSETTO:-0400
TZNAME:EDT
DTSTART:20240310T070000
END:DAYLIGHT
BEGIN:STANDARD
TZOFFSETFROM:-0400
TZOFFSETTO:-0500
TZNAME:EST
DTSTART:20241103T060000
END:STANDARD
BEGIN:DAYLIGHT
TZOFFSETFROM:-0500
TZOFFSETTO:-0400
TZNAME:EDT
DTSTART:20250309T070000
END:DAYLIGHT
BEGIN:STANDARD
TZOFFSETFROM:-0400
TZOFFSETTO:-0500
TZNAME:EST
DTSTART:20251102T060000
END:STANDARD
BEGIN:DAYLIGHT
TZOFFSETFROM:-0500
TZOFFSETTO:-0400
TZNAME:EDT
DTSTART:20260308T070000
END:DAYLIGHT
BEGIN:STANDARD
TZOFFSETFROM:-0400
TZOFFSETTO:-0500
TZNAME:EST
DTSTART:20261101T060000
END:STANDARD
END:VTIMEZONE
BEGIN:VEVENT
DTSTART;TZID=America/New_York:20250609T130000
DTEND;TZID=America/New_York:20250609T160000
DTSTAMP:20260424T022909
CREATED:20250609T054258Z
LAST-MODIFIED:20250609T054543Z
UID:7108-1749474000-1749484800@pcparkdistrict.com
SUMMARY:PCPD Board Meeting - June 2025 - Thornville
DESCRIPTION:PCPD Board Meeting – June 9\, 2025 \nThornville\, OH\nLocation:  Thornville Public Library\,  99 E. Columbus St\, Thornville\, OH 43076 \nTime: 1:00pm \nThe Perry County Park District Board Meetings are on the move around the county April – November\, to give us the opportunity to engage with community leaders and county residents.  As always\, the public is invited\, and community participation and discussion about your local parks and park needs are encouraged! \nQuestions? Contact us at: info@PCparkdistrict.com for more information.
URL:https://pcparkdistrict.com/calendar/pcpd-board-meeting-june-9-2025/
LOCATION:Perry Co District Library – Thornville\, 99 East Columbus Street\, Thornville\, OH\, 43706\, United States
CATEGORIES:Meeting
END:VEVENT
BEGIN:VEVENT
DTSTART;TZID=America/New_York:20250611T140000
DTEND;TZID=America/New_York:20250611T160000
DTSTAMP:20260424T022909
CREATED:20250609T060623Z
LAST-MODIFIED:20250609T062441Z
UID:7121-1749650400-1749657600@pcparkdistrict.com
SUMMARY:Critter Care 1
DESCRIPTION:Critter Care \nJoin the PCPD as we care for our critters on the following dates: \nWednesdays –  June 11 and 25\, July 2 and 23\, and\nTuesday    –  August 5\n2-4pm \nGlenford Fort Preserve\,  11995 OH-757\, Glenford\, OH \nWe have live turtles\, snakes\, frogs\, and spiders that we use for educational programs throughout the county. We invite you to join us to take an active part in their care\, feeding\, and enrichment. \nRegistration via email would be appreciated. Send to:\n  jbennett@pcparkdistrict.com
URL:https://pcparkdistrict.com/calendar/critter_care_6-11-25/
LOCATION:Glenford Fort Preserve\, 11995 State Route 757\, Glenford\, Ohio\, 43739
CATEGORIES:Education,Family,Nature,Wildlife
END:VEVENT
BEGIN:VEVENT
DTSTART;TZID=America/New_York:20250617T163000
DTEND;TZID=America/New_York:20250617T180000
DTSTAMP:20260424T022909
CREATED:20250616T052918Z
LAST-MODIFIED:20250616T054310Z
UID:7152-1750177800-1750183200@pcparkdistrict.com
SUMMARY:PCPD Board Special Meeting - June 17 2025 - Thornville
DESCRIPTION:PCPD Board – Special Meeting – June 17\, 2025 \nLocation:  Thornville Public Library\,  99 E. Columbus St\, Thornville\, OH 43076 \nTime: 4:30pm \nThe Perry County Park District Board of Park Commissioners will hold a Special Meeting on Tuesday\, June 17\, 2025\, at 4:30 PM\, at the Thornville Public Library\, located at 99 E Columbus St\, Thornville\, OH 43076\, for the purpose of review and discussion of a financial inquiry. The meeting is open to the public. \nQuestions? Contact us at: info@PCparkdistrict.com for more information.
URL:https://pcparkdistrict.com/calendar/pcpd-board-special-meeting-june-17-2025/
LOCATION:Perry Co District Library – Thornville\, 99 East Columbus Street\, Thornville\, OH\, 43706\, United States
CATEGORIES:Meeting
END:VEVENT
BEGIN:VEVENT
DTSTART;TZID=America/New_York:20250625T140000
DTEND;TZID=America/New_York:20250625T160000
DTSTAMP:20260424T022909
CREATED:20250609T061558Z
LAST-MODIFIED:20250609T062524Z
UID:7124-1750860000-1750867200@pcparkdistrict.com
SUMMARY:Critter Care 2
DESCRIPTION:Critter Care \nJoin the PCPD as we care for our critters on the following dates: \nWednesdays –  June 11 and 25\, July 2 and 23\, and\nTuesday    –  August 5\n2-4pm \nGlenford Fort Preserve\,  11995 OH-757\, Glenford\, OH \nWe have live turtles\, snakes\, frogs\, and spiders that we use for educational programs throughout the county. We invite you to join us to take an active part in their care\, feeding\, and enrichment. \nRegistration via email would be appreciated. Send to:\n  jbennett@pcparkdistrict.com
URL:https://pcparkdistrict.com/calendar/critter_care_6-25-25-copy/
LOCATION:Glenford Fort Preserve\, 11995 State Route 757\, Glenford\, Ohio\, 43739
CATEGORIES:Education,Family,Nature,Wildlife
END:VEVENT
BEGIN:VEVENT
DTSTART;TZID=America/New_York:20250627T210000
DTEND;TZID=America/New_York:20250627T235900
DTSTAMP:20260424T022909
CREATED:20250621T034004Z
LAST-MODIFIED:20250630T040733Z
UID:7161-1751058000-1751068740@pcparkdistrict.com
SUMMARY:To Be Rescheduled - Mothing at Ludowici
DESCRIPTION:Join the Perry County Park District for a night of mothing at Ludowici Community Foundation Park \nWhen:  Friday\, June 27\, 2025 – 9pm\nUpdate 6/26/25: Cancelled due to inclement weather (extreme heat and possible storms).  Watch here and Facebook for reschedule date. \nWhere: Ludowici Community Foundation Park\n551 Black Gold Rd\, New Lexington Oh \nJoin us at the shelter house for a nighttime viewing of moths!We’ll hang sheets and lights to attract some nocturnal visitors for an up-close experience.  This program does NOT include a formal lecture or a hike. Guests may come and go as they please. Feel free to bring a chair or blanket. \nNOTE:  The larger/more impressive months are likely to visit in the late night/early morning. We will plan on being out until at least midnight\, later if desired. \nIn case of inclement weather\, the program will be cancelled and hopefully rescheduled. \n \nQuestions? Contact us at: info@PCparkdistrict.com for more information.
URL:https://pcparkdistrict.com/calendar/mothing-at-ludowici/
LOCATION:Ludowici Community Park Shelter House\, New Lexington OH\, 551 Black Gold Rd\, New Lexington\, OH\, 43764\, United States
CATEGORIES:Education,Family,Nature,Wildlife
END:VEVENT
BEGIN:VEVENT
DTSTART;TZID=America/New_York:20250629T150000
DTEND;TZID=America/New_York:20250629T163000
DTSTAMP:20260424T022909
CREATED:20250609T055558Z
LAST-MODIFIED:20250609T063122Z
UID:7116-1751209200-1751214600@pcparkdistrict.com
SUMMARY:Kayak Adventures 1
DESCRIPTION:Kayak Adventures \nJoin the PCPD on a kayak adventure on\nSundays –  June 29\, July 20\, & August 17\n3pm \nClouse Lake\, 3 miles south of Somerset on Rt 668. \nBring your own registered boat and lifejacket.  \nPlease register or send questions by the Friday before\, by emailing:\n  jbennett@pcparkdistrict.com  \nCheck Facebook for updates. Program will be cancelled in the case of inclement weather.
URL:https://pcparkdistrict.com/calendar/kayak_adventures_6-29-25/
LOCATION:Clouse Lake\, Rt 668\, Somerset\, 43783\, United States
CATEGORIES:Education,Family,Nature,Photography,Wildlife
END:VEVENT
END:VCALENDAR