BEGIN:VCALENDAR
VERSION:2.0
PRODID:-//Perry County Park District - ECPv6.15.20//NONSGML v1.0//EN
CALSCALE:GREGORIAN
METHOD:PUBLISH
X-WR-CALNAME:Perry County Park District
X-ORIGINAL-URL:https://pcparkdistrict.com
X-WR-CALDESC:Events for Perry County Park District
REFRESH-INTERVAL;VALUE=DURATION:PT1H
X-Robots-Tag:noindex
X-PUBLISHED-TTL:PT1H
BEGIN:VTIMEZONE
TZID:America/New_York
BEGIN:DAYLIGHT
TZOFFSETFROM:-0500
TZOFFSETTO:-0400
TZNAME:EDT
DTSTART:20240310T070000
END:DAYLIGHT
BEGIN:STANDARD
TZOFFSETFROM:-0400
TZOFFSETTO:-0500
TZNAME:EST
DTSTART:20241103T060000
END:STANDARD
BEGIN:DAYLIGHT
TZOFFSETFROM:-0500
TZOFFSETTO:-0400
TZNAME:EDT
DTSTART:20250309T070000
END:DAYLIGHT
BEGIN:STANDARD
TZOFFSETFROM:-0400
TZOFFSETTO:-0500
TZNAME:EST
DTSTART:20251102T060000
END:STANDARD
BEGIN:DAYLIGHT
TZOFFSETFROM:-0500
TZOFFSETTO:-0400
TZNAME:EDT
DTSTART:20260308T070000
END:DAYLIGHT
BEGIN:STANDARD
TZOFFSETFROM:-0400
TZOFFSETTO:-0500
TZNAME:EST
DTSTART:20261101T060000
END:STANDARD
BEGIN:DAYLIGHT
TZOFFSETFROM:-0500
TZOFFSETTO:-0400
TZNAME:EDT
DTSTART:20270314T070000
END:DAYLIGHT
BEGIN:STANDARD
TZOFFSETFROM:-0400
TZOFFSETTO:-0500
TZNAME:EST
DTSTART:20271107T060000
END:STANDARD
END:VTIMEZONE
BEGIN:VEVENT
DTSTART;TZID=America/New_York:20251103T150000
DTEND;TZID=America/New_York:20251103T173000
DTSTAMP:20260423T221601
CREATED:20251103T143700Z
LAST-MODIFIED:20251103T144012Z
UID:7208-1762182000-1762191000@pcparkdistrict.com
SUMMARY:PCPD Board Special Meeting - November 3\, 2025
DESCRIPTION:PCPD Board Special Meeting – November 3\, 2025 \nLocation:  Somerset Public Library\,  117 W. Main St\, Somerset\, OH 43783 \nTime: 3:00pm \nThe Perry County Park District Board of Park Commissioners will hold a\n Special Meeting on Tuesday\,  November 3\, 2025\, at 3:00pm\,\n at the Somerset Public Library\, located at 117 W. Main St\, Somerset OH 43783\,\n for the purpose of By Laws Revision. The meeting is open to the public. \nQuestions? Contact us at: info@PCparkdistrict.com for more information.
URL:https://pcparkdistrict.com/calendar/pcpd-board-special-meeting-nov-3-2025/
LOCATION:Perry Co District Library – Somerset\, 117 West Main Street\, Somerset\, OH\, 43783
CATEGORIES:Meeting
END:VEVENT
BEGIN:VEVENT
DTSTART;TZID=America/New_York:20251103T180000
DTEND;TZID=America/New_York:20251103T200000
DTSTAMP:20260423T221601
CREATED:20251103T161332Z
LAST-MODIFIED:20251103T161642Z
UID:7233-1762192800-1762200000@pcparkdistrict.com
SUMMARY:Fall Painting Class
DESCRIPTION:Fall Painting Class with instructor Bobbi McKinnon \nMonday\, November 3\, 2025\n6-8pm\nSomerset Artists’ Co-op\,  206 S. Market St\, Somerset OH 43783 \nSee flyer below for details. \nThanks to a grant from the Ohio Arts Council\, this program is free and hosted by the Perry County Park District. \nRegister via email at: jbennett@PCparkdistrict.com or request more information.
URL:https://pcparkdistrict.com/calendar/fall_painting_class_nov_3_2025/
LOCATION:Somerset Artists’ Co-op\, 206 S. Market St\, Somerset\, 43783\, United States
CATEGORIES:Art,Cultural,Family
END:VEVENT
BEGIN:VEVENT
DTSTART;TZID=America/New_York:20251110T130000
DTEND;TZID=America/New_York:20251110T153000
DTSTAMP:20260423T221601
CREATED:20251103T142935Z
LAST-MODIFIED:20251103T143318Z
UID:7206-1762779600-1762788600@pcparkdistrict.com
SUMMARY:PCPD Board Meeting - November 2025- Somerset
DESCRIPTION:PCPD Board Meeting – November 10\, 2025 \nSomerset\, OH\nLocation:  Somerset Public Library\, 117 W. Main St\, Somerset OH 43783 \nTime: 1:00pm \nThe Park District Board Meetings are being held December 2024 – March 2025 at our “winter home”\, the Somerset Public Library. As always\, the public is invited\, and community participation and discussion are encouraged about your local parks and park needs! \nQuestions? Contact us at: info@PCparkdistrict.com for more information.
URL:https://pcparkdistrict.com/calendar/pcpd-board-meeting-november-2025-copy/
LOCATION:Perry Co District Library – Somerset\, 117 West Main Street\, Somerset\, OH\, 43783
CATEGORIES:Meeting
END:VEVENT
BEGIN:VEVENT
DTSTART;TZID=America/New_York:20251111T140000
DTEND;TZID=America/New_York:20251111T160000
DTSTAMP:20260423T221601
CREATED:20250922T062751Z
LAST-MODIFIED:20250922T062916Z
UID:7184-1762869600-1762876800@pcparkdistrict.com
SUMMARY:Critter Care - Fall 2025 Nov
DESCRIPTION:Critter Care \nJoin the PCPD as we care for our critters on the following dates: \nTuesdays – September 9\, October 14\, November 11\n2-4pm \nGlenford Fort Preserve\,  11995 OH-757\, Glenford\, OH \nWe have live turtles\, snakes\, frogs\, and spiders that we use for educational programs throughout the county. We invite you to join us to take an active part in their care\, feeding\, and enrichment. \nRegistration via email would be appreciated. Send to:\n  jbennett@pcparkdistrict.com
URL:https://pcparkdistrict.com/calendar/critter_care_11_11_25/
LOCATION:Glenford Fort Preserve\, 11995 State Route 757\, Glenford\, Ohio\, 43739
CATEGORIES:Education,Family,Nature,Wildlife
END:VEVENT
BEGIN:VEVENT
DTSTART;TZID=America/New_York:20251202T130000
DTEND;TZID=America/New_York:20251202T153000
DTSTAMP:20260423T221601
CREATED:20251201T012926Z
LAST-MODIFIED:20251208T052522Z
UID:7238-1764680400-1764689400@pcparkdistrict.com
SUMMARY:CANCELLED PCPD Board Special Meeting - December 2\, 2025
DESCRIPTION:UPDATE:  Meeting was cancelled due to a snow event and travel concerns.  \nPCPD Board Special Meeting – December 2\, 2025 \nLocation:  Somerset Public Library\,  117 W. Main St\, Somerset\, OH 43783 \nTime: 1:00pm \nThe Perry County Park District Board of Park Commissioners will hold a\n Special Meeting on Tuesday\,  December 2\, 2025\, at 3:00pm\,\n at the Somerset Public Library\, located at 117 W. Main St\, Somerset OH 43783\,\n for the purpose of reviewing ORC 1545 compliance and review of Perry County Employee Personnel Manual. The meeting is open to the public. \nQuestions? Contact us at: info@PCparkdistrict.com for more information.
URL:https://pcparkdistrict.com/calendar/pcpd-board-special-meeting_dec-2-2025/
LOCATION:Perry Co District Library – Somerset\, 117 West Main Street\, Somerset\, OH\, 43783
CATEGORIES:Meeting
END:VEVENT
BEGIN:VEVENT
DTSTART;TZID=America/New_York:20251208T130000
DTEND;TZID=America/New_York:20251208T153000
DTSTAMP:20260423T221601
CREATED:20251103T150810Z
LAST-MODIFIED:20251103T151101Z
UID:7224-1765198800-1765207800@pcparkdistrict.com
SUMMARY:PCPD Board Meeting - December 2025- Somerset
DESCRIPTION:PCPD Board Meeting – December 8\, 2025 \nSomerset\, OH\nLocation:  Somerset Public Library\, 117 W. Main St\, Somerset OH 43783 \nTime: 1:00pm \nThe Park District Board Meetings are held at the Somerset Public Library. As always\, the public is invited\, and community participation and discussion are encouraged about parks and programs! \nQuestions? Contact us at: info@PCparkdistrict.com for more information.
URL:https://pcparkdistrict.com/calendar/pcpd-board-meeting-december-2025-2/
LOCATION:Perry Co District Library – Somerset\, 117 West Main Street\, Somerset\, OH\, 43783
CATEGORIES:Meeting
END:VEVENT
BEGIN:VEVENT
DTSTART;TZID=America/New_York:20260112T130000
DTEND;TZID=America/New_York:20260112T153000
DTSTAMP:20260423T221601
CREATED:20251103T151123Z
LAST-MODIFIED:20251103T151239Z
UID:7226-1768222800-1768231800@pcparkdistrict.com
SUMMARY:PCPD Board Meeting - January 2026- Somerset
DESCRIPTION:PCPD Board Meeting – January 12\, 2026 \nSomerset\, OH\nLocation:  Somerset Public Library\, 117 W. Main St\, Somerset OH 43783 \nTime: 1:00pm \nThe Park District Board Meetings are held at the Somerset Public Library. As always\, the public is invited\, and community participation and discussion are encouraged about parks and programs! \nQuestions? Contact us at: info@PCparkdistrict.com for more information.
URL:https://pcparkdistrict.com/calendar/pcpd-board-meeting-january-2026/
LOCATION:Perry Co District Library – Somerset\, 117 West Main Street\, Somerset\, OH\, 43783
CATEGORIES:Meeting
END:VEVENT
BEGIN:VEVENT
DTSTART;TZID=America/New_York:20260127T170000
DTEND;TZID=America/New_York:20260127T183000
DTSTAMP:20260423T221601
CREATED:20260126T165632Z
LAST-MODIFIED:20260126T180443Z
UID:7251-1769533200-1769538600@pcparkdistrict.com
SUMMARY:PCPD Special Board Meeting - January 27-2026- Somerset
DESCRIPTION:Due to weather and road conditions\, this special meeting has been CANCELLED. \nPCPD Board Meeting – January 27\, 2026 \nLocation:  Somerset Public Library\, 117 W. Main St\, Somerset OH 43783 \nTime: 5:00pm \nLICKING PARK DISTRICT\nNOTICE OF SPECIAL MEETING\nTuesday\, Jan 27\, 2026 \nThe Perry County Park District Board of Park Commissioners will hold a Special Meeting on Tuesday\, January 27\, 2026\, at the Somerset Public Library\, located at 117 W. Main St\, Somerset\, OH 43783\,  for the purpose of board vacancy interviews in executive session\, pursuant to ORC 121.22(G)(1) – for the purpose of considering the appointment of a public official. \nQuestions? Contact us at: info@PCparkdistrict.com for more information.
URL:https://pcparkdistrict.com/calendar/pcpd-special-board-meeting-january-27-2026-somerset/
LOCATION:Perry Co District Library – Somerset\, 117 West Main Street\, Somerset\, OH\, 43783
CATEGORIES:Meeting
END:VEVENT
BEGIN:VEVENT
DTSTART;TZID=America/New_York:20260209T130000
DTEND;TZID=America/New_York:20260209T153000
DTSTAMP:20260423T221601
CREATED:20251103T151250Z
LAST-MODIFIED:20251103T152223Z
UID:7228-1770642000-1770651000@pcparkdistrict.com
SUMMARY:PCPD Board Meeting - February 2026- Somerset
DESCRIPTION:PCPD Board Meeting – February 9\, 2026 \nSomerset\, OH\nLocation:  Somerset Public Library\, 117 W. Main St\, Somerset OH 43783 \nTime: 1:00pm \nThe Park District Board Meetings are held at the Somerset Public Library. As always\, the public is invited\, and community participation and discussion are encouraged about parks and programs! \nQuestions? Contact us at: info@PCparkdistrict.com for more information.
URL:https://pcparkdistrict.com/calendar/pcpd-board-meeting-february-2026/
LOCATION:Perry Co District Library – Somerset\, 117 West Main Street\, Somerset\, OH\, 43783
CATEGORIES:Meeting
END:VEVENT
BEGIN:VEVENT
DTSTART;TZID=America/New_York:20260309T130000
DTEND;TZID=America/New_York:20260309T153000
DTSTAMP:20260423T221601
CREATED:20251103T152259Z
LAST-MODIFIED:20251103T152350Z
UID:7230-1773061200-1773070200@pcparkdistrict.com
SUMMARY:PCPD Board Meeting - March 2026- Somerset
DESCRIPTION:PCPD Board Meeting – March 9\, 2026 \nSomerset\, OH\nLocation:  Somerset Public Library\, 117 W. Main St\, Somerset OH 43783 \nTime: 1:00pm \nThe Park District Board Meetings are held at the Somerset Public Library. As always\, the public is invited\, and community participation and discussion are encouraged about parks and programs! \nQuestions? Contact us at: info@PCparkdistrict.com for more information.
URL:https://pcparkdistrict.com/calendar/pcpd-board-meeting-march-2026/
LOCATION:Perry Co District Library – Somerset\, 117 West Main Street\, Somerset\, OH\, 43783
CATEGORIES:Meeting
END:VEVENT
BEGIN:VEVENT
DTSTART;TZID=America/New_York:20260413T130000
DTEND;TZID=America/New_York:20260413T153000
DTSTAMP:20260423T221601
CREATED:20260323T030627Z
LAST-MODIFIED:20260323T035820Z
UID:7258-1776085200-1776094200@pcparkdistrict.com
SUMMARY:PCPD Board Meeting -April 2026- Somerset
DESCRIPTION:PCPD Board Meeting – April 13\, 2026 \nSomerset\, OH\nLocation:  Somerset Public Library\, 117 W. Main St\, Somerset OH 43783 \nTime: 1:00pm \nThe Park District Board Meetings are held at the Somerset Public Library. As always\, the public is invited\, and community participation and discussion are encouraged about parks and programs! \nQuestions? Contact us at: info@PCparkdistrict.com for more information.
URL:https://pcparkdistrict.com/calendar/pcpd-board-meeting-april-2026-somerset/
LOCATION:Perry Co District Library – Somerset\, 117 West Main Street\, Somerset\, OH\, 43783
CATEGORIES:Meeting
END:VEVENT
BEGIN:VEVENT
DTSTART;TZID=America/New_York:20260511T130000
DTEND;TZID=America/New_York:20260511T153000
DTSTAMP:20260423T221601
CREATED:20260323T035911Z
LAST-MODIFIED:20260323T040108Z
UID:7260-1778504400-1778513400@pcparkdistrict.com
SUMMARY:PCPD Board Meeting -May 2026- Somerset
DESCRIPTION:PCPD Board Meeting – May 11\, 2026 \nSomerset\, OH\nLocation:  Somerset Public Library\, 117 W. Main St\, Somerset OH 43783 \nTime: 1:00pm \nThe Park District Board Meetings are held at the Somerset Public Library. As always\, the public is invited\, and community participation and discussion are encouraged about parks and programs! \nQuestions? Contact us at: info@PCparkdistrict.com for more information.
URL:https://pcparkdistrict.com/calendar/pcpd-board-meeting-may-2026-somerset/
LOCATION:Perry Co District Library – Somerset\, 117 West Main Street\, Somerset\, OH\, 43783
CATEGORIES:Meeting
END:VEVENT
BEGIN:VEVENT
DTSTART;TZID=America/New_York:20260608T130000
DTEND;TZID=America/New_York:20260608T153000
DTSTAMP:20260423T221601
CREATED:20260323T040145Z
LAST-MODIFIED:20260323T040306Z
UID:7262-1780923600-1780932600@pcparkdistrict.com
SUMMARY:PCPD Board Meeting -June 2026- Somerset
DESCRIPTION:PCPD Board Meeting – June 8\, 2026 \nSomerset\, OH\nLocation:  Somerset Public Library\, 117 W. Main St\, Somerset OH 43783 \nTime: 1:00pm \nThe Park District Board Meetings are held at the Somerset Public Library. As always\, the public is invited\, and community participation and discussion are encouraged about parks and programs! \nQuestions? Contact us at: info@PCparkdistrict.com for more information.
URL:https://pcparkdistrict.com/calendar/pcpd-board-meeting-june-2026-somerset/
LOCATION:Perry Co District Library – Somerset\, 117 West Main Street\, Somerset\, OH\, 43783
CATEGORIES:Meeting
END:VEVENT
END:VCALENDAR