BEGIN:VCALENDAR
VERSION:2.0
PRODID:-//Perry County Park District - ECPv6.15.20//NONSGML v1.0//EN
CALSCALE:GREGORIAN
METHOD:PUBLISH
X-WR-CALNAME:Perry County Park District
X-ORIGINAL-URL:https://pcparkdistrict.com
X-WR-CALDESC:Events for Perry County Park District
REFRESH-INTERVAL;VALUE=DURATION:PT1H
X-Robots-Tag:noindex
X-PUBLISHED-TTL:PT1H
BEGIN:VTIMEZONE
TZID:America/New_York
BEGIN:DAYLIGHT
TZOFFSETFROM:-0500
TZOFFSETTO:-0400
TZNAME:EDT
DTSTART:20240310T070000
END:DAYLIGHT
BEGIN:STANDARD
TZOFFSETFROM:-0400
TZOFFSETTO:-0500
TZNAME:EST
DTSTART:20241103T060000
END:STANDARD
BEGIN:DAYLIGHT
TZOFFSETFROM:-0500
TZOFFSETTO:-0400
TZNAME:EDT
DTSTART:20250309T070000
END:DAYLIGHT
BEGIN:STANDARD
TZOFFSETFROM:-0400
TZOFFSETTO:-0500
TZNAME:EST
DTSTART:20251102T060000
END:STANDARD
BEGIN:DAYLIGHT
TZOFFSETFROM:-0500
TZOFFSETTO:-0400
TZNAME:EDT
DTSTART:20260308T070000
END:DAYLIGHT
BEGIN:STANDARD
TZOFFSETFROM:-0400
TZOFFSETTO:-0500
TZNAME:EST
DTSTART:20261101T060000
END:STANDARD
END:VTIMEZONE
BEGIN:VEVENT
DTSTART;TZID=America/New_York:20251101T100000
DTEND;TZID=America/New_York:20251101T110000
DTSTAMP:20260423T222713
CREATED:20251103T150137Z
LAST-MODIFIED:20251103T150656Z
UID:7222-1761991200-1761994800@pcparkdistrict.com
SUMMARY:Ludowici birding hike
DESCRIPTION:Update: Our apologies. This program is cancelled due to illness.  \nJoin the Perry County Park District for a birding hike at the Ludowici Community Foundation Park.  \nSaturday\, November 1 – 10am\nLudowici Community Park (shelter house)\n551 Black Gold Rd\, New Lexington OH \nJoin us for a bird hike at Ludowici Community Foundation Park! We’ll be using binoculars donated to us from Tunnel Hill Reclamation Landfill. Meet at the shelter house. \nQuestions? Contact us at: info@PCparkdistrict.com for more information.
URL:https://pcparkdistrict.com/calendar/ludowici_park_birding_hike_nov_1_2025/
LOCATION:Ludowici Community Park Shelter House\, New Lexington OH\, 551 Black Gold Rd\, New Lexington\, OH\, 43764\, United States
CATEGORIES:Education,Hiking,Nature,Photography,Wildlife
END:VEVENT
BEGIN:VEVENT
DTSTART;TZID=America/New_York:20251018T140000
DTEND;TZID=America/New_York:20251018T160000
DTSTAMP:20260423T222713
CREATED:20251103T145212Z
LAST-MODIFIED:20251103T150008Z
UID:7217-1760796000-1760803200@pcparkdistrict.com
SUMMARY:Tunnel Hill hike
DESCRIPTION:Birding Hike \nSaturday\, October 18\, 2025\n2-4pm\n8822 Tunnel Hill Rd\, New Lexington OH \nJoin us for a wonderful afternoon hike in partnership with WinWaste Innovations to explore the Tunnel Hill reclamation area! The hike will be about 1.5 miles on grass/dirt with some elevation change.
URL:https://pcparkdistrict.com/calendar/tunnel_hill_hike_oct_18_2025/
LOCATION:Tunnel Hill Reclamation Area\, 8822 Tunnel Hill Rd\, New Lexington\, 43764\, United States
CATEGORIES:Education,Family,Hiking,Nature,Photography,Wildlife
END:VEVENT
BEGIN:VEVENT
DTSTART;TZID=America/New_York:20250817T150000
DTEND;TZID=America/New_York:20250817T163000
DTSTAMP:20260423T222713
CREATED:20250609T063303Z
LAST-MODIFIED:20250609T063357Z
UID:7145-1755442800-1755448200@pcparkdistrict.com
SUMMARY:Kayak Adventures 3
DESCRIPTION:Kayak Adventures \nJoin the PCPD on a kayak adventure on\nSundays –  June 29\, July 20\, and August 17\n3pm \nClouse Lake\, 3 miles south of Somerset on Rt 668. \nBring your own registered boat and lifejacket.  \nPlease register or send questions by the Friday before\, by emailing:\n  jbennett@pcparkdistrict.com  \nCheck Facebook for updates. Program will be cancelled in the case of inclement weather.
URL:https://pcparkdistrict.com/calendar/kayak_adventures_8-17-25/
LOCATION:Clouse Lake\, Rt 668\, Somerset\, 43783\, United States
CATEGORIES:Education,Family,Nature,Photography,Wildlife
END:VEVENT
BEGIN:VEVENT
DTSTART;TZID=America/New_York:20250809T093000
DTEND;TZID=America/New_York:20250809T103000
DTSTAMP:20260423T222713
CREATED:20250609T054926Z
LAST-MODIFIED:20250609T055540Z
UID:7113-1754731800-1754735400@pcparkdistrict.com
SUMMARY:Birding Hike
DESCRIPTION:Birding Hike \nSaturday\, August 9\, 2025\n9:30am\nWilson Mound\,  3400 Cooperriders Rd NW\, Glenford OH \nJoin us for a wonderful morning hike to enjoy birds! Bring your own binoculars if you have them.  The hike will be about a mile on grass/dirt with some elevation change and rocky surfaces.
URL:https://pcparkdistrict.com/calendar/birding_hike_8-9-25/
LOCATION:Wilson Mound Preserve\, 3100 Cooperriders Rd\, Glenford\, OH\, 43739\, United States
CATEGORIES:Education,Family,Hiking,Nature,Photography,Wildlife
END:VEVENT
BEGIN:VEVENT
DTSTART;TZID=America/New_York:20250723T180000
DTEND;TZID=America/New_York:20250723T190000
DTSTAMP:20260423T222713
CREATED:20250609T063544Z
LAST-MODIFIED:20250609T064119Z
UID:7147-1753293600-1753297200@pcparkdistrict.com
SUMMARY:Spiders 101
DESCRIPTION:Birding Hike \nWednesday\, July 23\, 2025\n6pm\nGlenford Fort Preserve\,   11995 Oh-757\, Glenford\, OH \nSpiders are COOL!  Let us prove it. This program will include an indoor presentation\, live animals\, and outdoor exploration.  All ages and comfort levels are welcome.
URL:https://pcparkdistrict.com/calendar/spiders_101/
LOCATION:Glenford Fort Preserve\, 11995 State Route 757\, Glenford\, Ohio\, 43739
CATEGORIES:Education,Family,Hiking,Nature,Photography,Wildlife
END:VEVENT
BEGIN:VEVENT
DTSTART;TZID=America/New_York:20250720T150000
DTEND;TZID=America/New_York:20250720T163000
DTSTAMP:20260423T222713
CREATED:20250609T063137Z
LAST-MODIFIED:20250609T063241Z
UID:7143-1753023600-1753029000@pcparkdistrict.com
SUMMARY:Kayak Adventures 2
DESCRIPTION:Kayak Adventures \nJoin the PCPD on a kayak adventure on\nSundays –  June 29\, July 20\, and August 17\n3pm \nClouse Lake\, 3 miles south of Somerset on Rt 668. \nBring your own registered boat and lifejacket.  \nPlease register or send questions by the Friday before\, by emailing:\n  jbennett@pcparkdistrict.com  \nCheck Facebook for updates. Program will be cancelled in the case of inclement weather.
URL:https://pcparkdistrict.com/calendar/kayak_adventures_7-20-25/
LOCATION:Clouse Lake\, Rt 668\, Somerset\, 43783\, United States
CATEGORIES:Education,Family,Nature,Photography,Wildlife
END:VEVENT
BEGIN:VEVENT
DTSTART;TZID=America/New_York:20250629T150000
DTEND;TZID=America/New_York:20250629T163000
DTSTAMP:20260423T222713
CREATED:20250609T055558Z
LAST-MODIFIED:20250609T063122Z
UID:7116-1751209200-1751214600@pcparkdistrict.com
SUMMARY:Kayak Adventures 1
DESCRIPTION:Kayak Adventures \nJoin the PCPD on a kayak adventure on\nSundays –  June 29\, July 20\, & August 17\n3pm \nClouse Lake\, 3 miles south of Somerset on Rt 668. \nBring your own registered boat and lifejacket.  \nPlease register or send questions by the Friday before\, by emailing:\n  jbennett@pcparkdistrict.com  \nCheck Facebook for updates. Program will be cancelled in the case of inclement weather.
URL:https://pcparkdistrict.com/calendar/kayak_adventures_6-29-25/
LOCATION:Clouse Lake\, Rt 668\, Somerset\, 43783\, United States
CATEGORIES:Education,Family,Nature,Photography,Wildlife
END:VEVENT
BEGIN:VEVENT
DTSTART;TZID=America/New_York:20250315T180000
DTEND;TZID=America/New_York:20250315T190000
DTSTAMP:20260423T222713
CREATED:20250310T055859Z
LAST-MODIFIED:20250310T062844Z
UID:7063-1742061600-1742065200@pcparkdistrict.com
SUMMARY:Wildlife Photography
DESCRIPTION:Wildlife Photography with Brad Imhoff \nSaturday\, March 15\, 2025\n6pm-7pm\nHoover Center Theater- 125 E. High St\, Glenford\, Ohio \nSee flyer below for details. \nThanks to a grant from the Ohio Arts Council\, this program is free and hosted by the Perry County Park District. \nFor more information\, email: jbennett@PCparkdistrict.com
URL:https://pcparkdistrict.com/calendar/wildlife_photography_mar_15_2025/
LOCATION:Hoover Center Theater\, 125 E. Main St\, Glenford\, OH\, 43739\, United States
CATEGORIES:Art,Lecture,Photography
END:VEVENT
END:VCALENDAR