BEGIN:VCALENDAR
VERSION:2.0
PRODID:-//Perry County Park District - ECPv6.15.20//NONSGML v1.0//EN
CALSCALE:GREGORIAN
METHOD:PUBLISH
X-WR-CALNAME:Perry County Park District
X-ORIGINAL-URL:https://pcparkdistrict.com
X-WR-CALDESC:Events for Perry County Park District
REFRESH-INTERVAL;VALUE=DURATION:PT1H
X-Robots-Tag:noindex
X-PUBLISHED-TTL:PT1H
BEGIN:VTIMEZONE
TZID:America/New_York
BEGIN:DAYLIGHT
TZOFFSETFROM:-0500
TZOFFSETTO:-0400
TZNAME:EDT
DTSTART:20210314T070000
END:DAYLIGHT
BEGIN:STANDARD
TZOFFSETFROM:-0400
TZOFFSETTO:-0500
TZNAME:EST
DTSTART:20211107T060000
END:STANDARD
BEGIN:DAYLIGHT
TZOFFSETFROM:-0500
TZOFFSETTO:-0400
TZNAME:EDT
DTSTART:20220313T070000
END:DAYLIGHT
BEGIN:STANDARD
TZOFFSETFROM:-0400
TZOFFSETTO:-0500
TZNAME:EST
DTSTART:20221106T060000
END:STANDARD
BEGIN:DAYLIGHT
TZOFFSETFROM:-0500
TZOFFSETTO:-0400
TZNAME:EDT
DTSTART:20230312T070000
END:DAYLIGHT
BEGIN:STANDARD
TZOFFSETFROM:-0400
TZOFFSETTO:-0500
TZNAME:EST
DTSTART:20231105T060000
END:STANDARD
END:VTIMEZONE
BEGIN:VEVENT
DTSTART;TZID=America/New_York:20220813T210000
DTEND;TZID=America/New_York:20220813T223000
DTSTAMP:20260424T035616
CREATED:20220706T045504Z
LAST-MODIFIED:20220814T162429Z
UID:6479-1660424400-1660429800@pcparkdistrict.com
SUMMARY:Full Moon Hike
DESCRIPTION:Full Moon Night Hike \nWhen: Saturday\, August 13\, 2022 – 9:00 pm \nWhere: Ludowici Community Foundation Park – Meet at Shelter house on hill by pond\nBlack Gold Rd\, New Lexington OH 43764\n(Shelter entrance is south of intersection of Tile Plant Rd & Black Gold Rd – see map) \nJoin our naturalist for a guided hike on the Ludowici Community Foundation Park trails. We’ll enjoy the park in three light settings – evening\, full moon and new moon.\nAt each hike\, we’ll meet near the shelter house (indicated by the star) and walk the south loop.\nDetails: grass trail\, small ups and downs\, few roots or other trip hazards\, likely to be wet/puddled in some areas. Hike should last around 1.5 hours.\nPlease dress for the weather and ground conditions. Remember your bug spray \n \nQuestions? Contact us at: info@PCparkdistrict.com for more information.
URL:https://pcparkdistrict.com/calendar/new-moon-hike-ludowici-community-foundation-park-copy-2/
LOCATION:Ludowici Community Park Shelter House\, New Lexington OH\, 551 Black Gold Rd\, New Lexington\, OH\, 43764\, United States
CATEGORIES:Education,Family,Hiking,Nature,Wellness
END:VEVENT
BEGIN:VEVENT
DTSTART;TZID=America/New_York:20220728T183000
DTEND;TZID=America/New_York:20220728T200000
DTSTAMP:20260424T035616
CREATED:20220706T045045Z
LAST-MODIFIED:20220706T105504Z
UID:6476-1659033000-1659038400@pcparkdistrict.com
SUMMARY:Evening-Light Hike - Ludowici Community Foundation Park
DESCRIPTION:Evening-Light Hike \nWhen:Thursday\, July 28\, 2022 – 6:30pm \nWhere: Ludowici Community Foundation Park – Meet at Shelter house on hill by pond\nBlack Gold Rd\, New Lexington OH 43764\n(south of intersection of Tile Plant Rd & Black Gold Rd – see map) \nJoin our naturalist for a guided hike on the Ludowici Community Foundation Park trails. We’ll enjoy the park in three light settings – evening\, full moon and new moon.\nAt each hike\, we’ll meet near the shelter house (indicated by the star) and walk the south loop.\nDetails: grass trail\, small ups and downs\, few roots or other trip hazards\, likely to be wet/puddled in some areas. Hike should last around 1.5 hours.\nPlease dress for the weather and ground conditions. Remember your bug spray \n \nQuestions? Contact us at: info@PCparkdistrict.com for more information.
URL:https://pcparkdistrict.com/calendar/new-moon-hike-ludowici-community-foundation-park-copy/
LOCATION:Ludowici Community Park Shelter House\, New Lexington OH\, 551 Black Gold Rd\, New Lexington\, OH\, 43764\, United States
CATEGORIES:Education,Family,Hiking,Nature,Wellness
END:VEVENT
BEGIN:VEVENT
DTSTART;TZID=America/New_York:20220709T210000
DTEND;TZID=America/New_York:20220709T235900
DTSTAMP:20260424T035616
CREATED:20220706T032834Z
LAST-MODIFIED:20220706T033945Z
UID:6454-1657400400-1657411140@pcparkdistrict.com
SUMMARY:Mothing at Glenford Fort!
DESCRIPTION:Join the Perry County Park District for a night of mothing at Glenford Fort Preserve! \nWhen: Saturday\, July 9\, 2022 – 9pm \nWhere: Glenford Fort Preserve\n11861 State Route 757\, Glenford OH 43739 \n \nQuestions? Contact us at: info@PCparkdistrict.com for more information.
URL:https://pcparkdistrict.com/calendar/mothing-at-glenford-fort/
LOCATION:Glenford Fort Preserve\, 11995 State Route 757\, Glenford\, Ohio\, 43739
CATEGORIES:Education,Family,Nature,Wildlife
END:VEVENT
BEGIN:VEVENT
DTSTART;TZID=America/New_York:20220703T120000
DTEND;TZID=America/New_York:20220703T150000
DTSTAMP:20260424T035616
CREATED:20220706T034702Z
LAST-MODIFIED:20220706T041537Z
UID:6460-1656849600-1656860400@pcparkdistrict.com
SUMMARY:PCPD at Junction City 4th of July Celebration!
DESCRIPTION:Join the Perry County Park District at our table at the Junction City 4th of July Celebration! \nWhen: Sunday\, July 3\, 2022 – 12pm – 3pm \nWhere: Junction City Park\n300 W. Main St\, Junction City OH 43748 \n \nQuestions? Contact us at: info@PCparkdistrict.com for more information.
URL:https://pcparkdistrict.com/calendar/pcpd-at-junction-city-4th-of-july-celebration/
LOCATION:Junction City Park shelter house\, Rt 37\, Junction City\, OH\, 43748\, United States
CATEGORIES:Education,Family,Nature
END:VEVENT
BEGIN:VEVENT
DTSTART;TZID=America/New_York:20220702T170000
DTEND;TZID=America/New_York:20220702T200000
DTSTAMP:20260424T035616
CREATED:20220706T040214Z
LAST-MODIFIED:20220706T040214Z
UID:6465-1656781200-1656792000@pcparkdistrict.com
SUMMARY:PCPD at New Straitsville Community Picnic!
DESCRIPTION:Join the Perry County Park District at our table at the Junction City 4th of July Celebration! \nWhen: Saturday\, July 2\, 2022 – 5pm – 8pm \nWhere: New Straitsville Village Park\nMain St\, New Straitsville OH 43766 \n \nQuestions? Contact us at: info@PCparkdistrict.com for more information.
URL:https://pcparkdistrict.com/calendar/pcpd-at-new-straitsville-community-picnic/
LOCATION:New Straitsville\, State Route 93\, New Straitsville\, OH\, 43766\, United States
CATEGORIES:Education,Family,Nature
END:VEVENT
BEGIN:VEVENT
DTSTART;TZID=America/New_York:20220325T193000
DTEND;TZID=America/New_York:20220325T203000
DTSTAMP:20260424T035616
CREATED:20220317T175814Z
LAST-MODIFIED:20220325T182544Z
UID:6354-1648236600-1648240200@pcparkdistrict.com
SUMMARY:CANCELED: Woodcock Watch! (due to weather)
DESCRIPTION:CANCELED: Woodcock Watch! (due to rain and cold weather) \nWe will be hosting a Woodcock Watch on Friday\, March 25 at 7:30pm at Glenford Fort Earthworks (11995 State Route 757\, Glenford). \nWith any luck\, we will see and hear their unique courtship and aerial displays. But it will require us to be a good and quiet audience. There will be a short (2-3 minute) walk from the parking lot for optimal viewing. Some mud may be encountered so please dress for the weather and ground conditions. Bring a chair or blanket to sit on if desired and a flashlight for the walk back. \n The program will last approximately an hour. We hope to see you there! \nQuestions? Contact us at: info@PCparkdistrict.com for more information.
URL:https://pcparkdistrict.com/calendar/woodcock-watch/
LOCATION:Glenford Fort Preserve\, 11995 State Route 757\, Glenford\, Ohio\, 43739
CATEGORIES:Family,Hiking,Nature,Wildlife
END:VEVENT
BEGIN:VEVENT
DTSTART;TZID=America/New_York:20220315T193000
DTEND;TZID=America/New_York:20220315T203000
DTSTAMP:20260424T035616
CREATED:20220324T070423Z
LAST-MODIFIED:20220324T070516Z
UID:6361-1647372600-1647376200@pcparkdistrict.com
SUMMARY:Woodcock Watch!
DESCRIPTION:We will be hosting a Woodcock Watch on Tuesday\, March 15 at 7:30pm at Glenford Fort Earthworks (11995 State Route 757\, Glenford). \nWith any luck\, we will see and hear their unique courtship and aerial displays. But it will require us to be a good and quiet audience. There will be a short (2-3 minute) walk from the parking lot for optimal viewing. Some mud may be encountered so please dress for the weather and ground conditions. Bring a chair or blanket to sit on if desired and a flashlight for the walk back. \n The program will last approximately an hour. We hope to see you there! \nQuestions? Contact us at: info@PCparkdistrict.com for more information.
URL:https://pcparkdistrict.com/calendar/woodcock-watch-copy-2/
LOCATION:Glenford Fort Preserve\, 11995 State Route 757\, Glenford\, Ohio\, 43739
CATEGORIES:Family,Hiking,Nature,Wildlife
END:VEVENT
BEGIN:VEVENT
DTSTART;TZID=America/New_York:20220305T183000
DTEND;TZID=America/New_York:20220305T203000
DTSTAMP:20260424T035616
CREATED:20220324T070128Z
LAST-MODIFIED:20220324T070401Z
UID:6357-1646505000-1646512200@pcparkdistrict.com
SUMMARY:Woodcock Watch!
DESCRIPTION:We will be hosting a Woodcock Watch on Saturday\, March 5 at 6:30pm at Glenford Fort Earthworks (11995 State Route 757\, Glenford). \nWith any luck\, we will see and hear their unique courtship and aerial displays. But it will require us to be a good and quiet audience. There will be a short (2-3 minute) walk from the parking lot for optimal viewing. Some mud may be encountered so please dress for the weather and ground conditions. Bring a chair or blanket to sit on if desired and a flashlight for the walk back. \n The program will last approximately an hour. We hope to see you there! \nQuestions? Contact us at: info@PCparkdistrict.com for more information.
URL:https://pcparkdistrict.com/calendar/woodcock-watch-copy/
LOCATION:Glenford Fort Preserve\, 11995 State Route 757\, Glenford\, Ohio\, 43739
CATEGORIES:Family,Hiking,Nature,Wildlife
END:VEVENT
BEGIN:VEVENT
DTSTART;TZID=America/New_York:20220210T190000
DTEND;TZID=America/New_York:20220210T203000
DTSTAMP:20260424T035616
CREATED:20220131T030417Z
LAST-MODIFIED:20220131T062304Z
UID:6335-1644519600-1644525000@pcparkdistrict.com
SUMMARY:How I Met Your Mother - Animal Edition\, via Zoom!
DESCRIPTION:In honor of Valentine’s Day\, join the Perry County Park District for\nHow I Met Your Mother\, Animal Edition! \nWhen: Thursday February 10th – 7pm\nWhere: Zoom \nCourtship rituals in nature can be captivating\, amazing or even bizarre! \nLearn about some of the more unusual techniques of the animal kingdom’s courtship displays and mating rituals. \n** All ages are welcome\, but please note that this program is designed for a more mature audience and will contain proper anatomical terminology and explicit descriptions of animal courtship and mating behavior. ** \nRegister by emailing your name to:\ninfo@PCparkdistrict.com \nYour registration will be confirmed via email and the Zoom link sent out to all registered participants a few days prior to the event date. \nQuestions? Contact us at: info@PCparkdistrict.com for more information.
URL:https://pcparkdistrict.com/calendar/how_i_met_your_mother/
LOCATION:Zoom\, United States
CATEGORIES:Education,Lecture,Nature,Wildlife
END:VEVENT
BEGIN:VEVENT
DTSTART;TZID=America/New_York:20220129T140000
DTEND;TZID=America/New_York:20220129T153000
DTSTAMP:20260424T035616
CREATED:20220113T143213Z
LAST-MODIFIED:20220123T222825Z
UID:6323-1643464800-1643470200@pcparkdistrict.com
SUMMARY:Nature Trivia via Zoom!
DESCRIPTION:Join the Perry County Park District for Nature Trivia\, our first virtual program of 2022\, via Zoom!  \nWhen: Saturday January 29 – 2pm\nWhere: Zoom \nGather the whole family and test your knowledge in a fun\, interactive trivia game inspired by Jeopardy. Questions will be based on interesting facts about our world and all that live in it. \nPlay as a big team\, partners or solo! Have something on hand to write your answers on.  \nRegister by emailing your name to:\ninfo@PCparkdistrict.com \nYour registration will be confirmed via email and the Zoom link sent out to all registered participants a few days prior to the event date. \nQuestions? Contact us at: info@PCparkdistrict.com for more information.
URL:https://pcparkdistrict.com/calendar/nature-trivia-via-zoom/
LOCATION:Zoom\, United States
CATEGORIES:Education,Family,Nature,Wildflowers,Wildlife
END:VEVENT
END:VCALENDAR