BEGIN:VCALENDAR
VERSION:2.0
PRODID:-//Perry County Park District - ECPv6.15.20//NONSGML v1.0//EN
CALSCALE:GREGORIAN
METHOD:PUBLISH
X-ORIGINAL-URL:https://pcparkdistrict.com
X-WR-CALDESC:Events for Perry County Park District
REFRESH-INTERVAL;VALUE=DURATION:PT1H
X-Robots-Tag:noindex
X-PUBLISHED-TTL:PT1H
BEGIN:VTIMEZONE
TZID:America/New_York
BEGIN:DAYLIGHT
TZOFFSETFROM:-0500
TZOFFSETTO:-0400
TZNAME:EDT
DTSTART:20190310T070000
END:DAYLIGHT
BEGIN:STANDARD
TZOFFSETFROM:-0400
TZOFFSETTO:-0500
TZNAME:EST
DTSTART:20191103T060000
END:STANDARD
BEGIN:DAYLIGHT
TZOFFSETFROM:-0500
TZOFFSETTO:-0400
TZNAME:EDT
DTSTART:20200308T070000
END:DAYLIGHT
BEGIN:STANDARD
TZOFFSETFROM:-0400
TZOFFSETTO:-0500
TZNAME:EST
DTSTART:20201101T060000
END:STANDARD
BEGIN:DAYLIGHT
TZOFFSETFROM:-0500
TZOFFSETTO:-0400
TZNAME:EDT
DTSTART:20210314T070000
END:DAYLIGHT
BEGIN:STANDARD
TZOFFSETFROM:-0400
TZOFFSETTO:-0500
TZNAME:EST
DTSTART:20211107T060000
END:STANDARD
BEGIN:DAYLIGHT
TZOFFSETFROM:-0500
TZOFFSETTO:-0400
TZNAME:EDT
DTSTART:20220313T070000
END:DAYLIGHT
BEGIN:STANDARD
TZOFFSETFROM:-0400
TZOFFSETTO:-0500
TZNAME:EST
DTSTART:20221106T060000
END:STANDARD
BEGIN:DAYLIGHT
TZOFFSETFROM:-0500
TZOFFSETTO:-0400
TZNAME:EDT
DTSTART:20230312T070000
END:DAYLIGHT
BEGIN:STANDARD
TZOFFSETFROM:-0400
TZOFFSETTO:-0500
TZNAME:EST
DTSTART:20231105T060000
END:STANDARD
END:VTIMEZONE
BEGIN:VEVENT
DTSTART;TZID=America/New_York:20220808T153000
DTEND;TZID=America/New_York:20220808T173000
DTSTAMP:20260424T010622
CREATED:20220706T110305Z
LAST-MODIFIED:20220801T072552Z
UID:6487-1659972600-1659979800@pcparkdistrict.com
SUMMARY:PCPD Board Meeting - August 2022
DESCRIPTION:PCPD Board Meeting – August 2022 \nHemlock\, OH\nLocation:  Shelter house at Hemlock Community Church 8860 Main St SE\, Hemlock \nTime: 3:30pm \nThe Park District Board Meetings are back on the road\, to provide easy access for community leaders and residents around the county! As always\, the public is invited\, and community participation and discussion are encouraged about your local parks and park needs! \nQuestions? Contact us at: info@PCparkdistrict.com for more information.
URL:https://pcparkdistrict.com/calendar/pcpd-board-meeting-10-copy-copy-copy-copy-copy-copy-copy-copy/
LOCATION:Hemlock -Shelter house at Hemlock Community Church\, 8860 Main St SE\, Hemlock\, OH\, 43730\, United States
CATEGORIES:Meeting
END:VEVENT
BEGIN:VEVENT
DTSTART;TZID=America/New_York:20220711T153000
DTEND;TZID=America/New_York:20220711T173000
DTSTAMP:20260424T010622
CREATED:20220613T162359Z
LAST-MODIFIED:20220706T105819Z
UID:6437-1657553400-1657560600@pcparkdistrict.com
SUMMARY:PCPD Board Meeting - July 2022
DESCRIPTION:PCPD Board Meeting – July 2022 \nLocation: New Lexington\nArethusa Springs Park – 426 Fowler Ln\, New Lexington\, OH 43764\n(East shelter house\, near restrooms (turn right when entering from Fowler Lane) \nTime: 3:30pm \nThe Park District Board Meetings are back on the road\, to provide easy access for community leaders and residents around the county! As always\, the public is invited\, and community participation and discussion are encouraged about your local parks and park needs! \nQuestions? Contact us at: info@PCparkdistrict.com for more information.
URL:https://pcparkdistrict.com/calendar/pcpd-board-meeting-10-copy-copy-copy-copy-copy-copy-copy/
CATEGORIES:Meeting
END:VEVENT
BEGIN:VEVENT
DTSTART;TZID=America/New_York:20220613T153000
DTEND;TZID=America/New_York:20220613T173000
DTSTAMP:20260424T010622
CREATED:20220613T161940Z
LAST-MODIFIED:20220613T162336Z
UID:6432-1655134200-1655141400@pcparkdistrict.com
SUMMARY:PCPD Board Meeting - June 2022
DESCRIPTION:PCPD Board Meeting – June 2022 \nLocation: Thornville Library\n99 E. Columbus St\, Thornville\, OH  \nTime: 3:30pm \nThe Board Meetings are going back on the road\, to provide easy access for community leaders and residents around the county! As always\, the public is invited and community participation and discussion are encouraged about your local parks and park needs! \nQuestions? Contact us at: info@PCparkdistrict.com for more information.
URL:https://pcparkdistrict.com/calendar/pcpd-board-meeting-10-copy-copy-copy-copy-copy-copy/
LOCATION:Thornville Library\, 99 E. Columbus St\, Thornville\, OH\, 43076\, United States
CATEGORIES:Meeting
END:VEVENT
BEGIN:VEVENT
DTSTART;TZID=America/New_York:20220509T153000
DTEND;TZID=America/New_York:20220509T173000
DTSTAMP:20260424T010622
CREATED:20220427T202656Z
LAST-MODIFIED:20220507T125847Z
UID:6391-1652110200-1652117400@pcparkdistrict.com
SUMMARY:PCPD Board Meeting - May 2022
DESCRIPTION:PCPD Board Meeting – May 2022 \nLocation: Junction City Library\n108 W Main St\, Junction City\, OH 43748 \nTime: 3:30pm \nThe Board Meetings are going back on the road\, to provide easy access for community leaders and residents around the county! As always\, the public is invited and community participation and discussion are encouraged about your local parks and park needs! \nQuestions? Contact us at: info@PCparkdistrict.com for more information.
URL:https://pcparkdistrict.com/calendar/pcpd-board-meeting-10-copy-copy-copy-copy-copy/
LOCATION:Junction City Park shelter house\, Rt 37\, Junction City\, OH\, 43748\, United States
CATEGORIES:Meeting
END:VEVENT
BEGIN:VEVENT
DTSTART;TZID=America/New_York:20220411T153000
DTEND;TZID=America/New_York:20220411T173000
DTSTAMP:20260424T010622
CREATED:20220324T070702Z
LAST-MODIFIED:20220325T183429Z
UID:6363-1649691000-1649698200@pcparkdistrict.com
SUMMARY:PCPD Board Meeting - April 2022
DESCRIPTION:PCPD Board Meeting – April 2022 \nLocation: Corning Public Library\, 113 11th St\, Corning\, OH 43730 Corning OH \nTime:  3:30pm \nThe Board Meetings are going back on the road\, to provide easy access for community leaders and residents around the county! As always\, the public is invited and community participation and discussion are encouraged about your local parks and park needs! \nQuestions? Contact us at: info@PCparkdistrict.com for more information.
URL:https://pcparkdistrict.com/calendar/pcpd-board-meeting-10-copy-copy-copy-copy/
LOCATION:Corning Library\, 113 11th St\, Corning\, OH\, 43730\, United States
CATEGORIES:Meeting
END:VEVENT
BEGIN:VEVENT
DTSTART;TZID=America/New_York:20220314T153000
DTEND;TZID=America/New_York:20220314T173000
DTSTAMP:20260424T010622
CREATED:20220113T142413Z
LAST-MODIFIED:20220113T145752Z
UID:6320-1647271800-1647279000@pcparkdistrict.com
SUMMARY:PCPD Board Meeting
DESCRIPTION:PCPD Board Meeting – March 2022 \nLocation: Somerset Courthouse\,  100 Public Square\, Somerset Ohio 43783\nTime:  3:30pm \nDuring the winter months of December – March meetings will remain at the Somerset Courthouse. As always\, the public is invited and community participation and discussion is encouraged about your local parks and park needs! \nMeeting info is also be available at:\nClick here for meeting information via the Perry County Government’s website \nQuestions? Contact us at: info@PCparkdistrict.com for more information.
URL:https://pcparkdistrict.com/calendar/pcpd-board-meeting-10-copy-copy-copy/
LOCATION:Somerset Courthouse\, 100 Public Square\, Somerset\, OH\, 43783\, United States
CATEGORIES:Meeting
END:VEVENT
BEGIN:VEVENT
DTSTART;TZID=America/New_York:20220214T153000
DTEND;TZID=America/New_York:20220214T153000
DTSTAMP:20260424T010622
CREATED:20211205T144254Z
LAST-MODIFIED:20220131T054936Z
UID:6313-1644852600-1644852600@pcparkdistrict.com
SUMMARY:PCPD Board Meeting
DESCRIPTION:PCPD Board Meeting – February 2022 \nLocation: Somerset Courthouse\,  100 Public Square\, Somerset Ohio 43783\nTime:  3:30pm \nDuring the winter months of December – March meetings will remain at the Somerset Courthouse. As always\, the public is invited and community participation and discussion is encouraged about your local parks and park needs! \nMeeting info is also be available at:\nClick here for meeting information via the Perry County Government’s website \nQuestions? Contact us at: info@PCparkdistrict.com for more information.
URL:https://pcparkdistrict.com/calendar/pcpd-board-meeting-10-copy-copy/
LOCATION:Somerset Courthouse\, 100 Public Square\, Somerset\, OH\, 43783\, United States
CATEGORIES:Meeting
END:VEVENT
BEGIN:VEVENT
DTSTART;TZID=America/New_York:20220110T153000
DTEND;TZID=America/New_York:20220110T173000
DTSTAMP:20260424T010622
CREATED:20211205T143154Z
LAST-MODIFIED:20220113T142349Z
UID:6309-1641828600-1641835800@pcparkdistrict.com
SUMMARY:PCPD Board Meeting
DESCRIPTION:PCPD Board Meeting – January 2022 \nLocation: Somerset Courthouse\,  100 Public Square\, Somerset Ohio 43783\nTime:  3:30 PM \nThis will be the annual organizational meeting for the Perry County Park District. \nDuring the winter months of December – March meetings will remain at the Somerset Courthouse. As always\, the public is invited and community participation and discussion is encouraged about your local parks and park needs! \nMeeting info is also be available at:\nClick here for meeting information via the Perry County Government’s website
URL:https://pcparkdistrict.com/calendar/pcpd-board-meeting-10-copy/
LOCATION:Somerset Courthouse\, 100 Public Square\, Somerset\, OH\, 43783\, United States
CATEGORIES:Meeting
END:VEVENT
BEGIN:VEVENT
DTSTART;TZID=America/New_York:20211213T153000
DTEND;TZID=America/New_York:20211213T173000
DTSTAMP:20260424T010622
CREATED:20210124T220259Z
LAST-MODIFIED:20211205T143046Z
UID:4924-1639409400-1639416600@pcparkdistrict.com
SUMMARY:PCPD Board Meeting
DESCRIPTION:PCPD Board Meeting \nLocation: Somerset Courthouse\,  100 Public Square\, Somerset Ohio 43783\nTime:  3:30 PM \nWe are rotating our meetings around the county to encourage community participation and discussion about local parks and needs\,\nhowever\, during the winter months of December – February we will be staying at the Somerset Courthouse. \nMeeting info is also be available at:\nClick here for meeting information via the Perry County Government’s website
URL:https://pcparkdistrict.com/calendar/pcpd-board-meeting-10/
LOCATION:Somerset Courthouse\, 100 Public Square\, Somerset\, OH\, 43783\, United States
CATEGORIES:Meeting
END:VEVENT
BEGIN:VEVENT
DTSTART;TZID=America/New_York:20211108T153000
DTEND;TZID=America/New_York:20211108T173000
DTSTAMP:20260424T010622
CREATED:20210124T220115Z
LAST-MODIFIED:20211009T123002Z
UID:4922-1636385400-1636392600@pcparkdistrict.com
SUMMARY:PCPD  Board Meeting
DESCRIPTION:PCPD Board Meeting – 3:30 pm \nLocation: Hoover Center Theater\,   125 E. Main St\, Glenford \nWe are rotating our meetings around the county to encourage community participation and discussion about local parks and needs. \nMeeting info will also be available at:\nClick here for current meeting location
URL:https://pcparkdistrict.com/calendar/pcpd-board-meeting-9/
LOCATION:Hoover Center Theater\, 125 E. Main St\, Glenford\, OH\, 43739\, United States
CATEGORIES:Meeting
END:VEVENT
BEGIN:VEVENT
DTSTART;TZID=America/New_York:20211018T153000
DTEND;TZID=America/New_York:20211018T173000
DTSTAMP:20260424T010622
CREATED:20210124T220005Z
LAST-MODIFIED:20211013T124231Z
UID:4920-1634571000-1634578200@pcparkdistrict.com
SUMMARY:PCPD Board Meeting
DESCRIPTION:PCPD Board Meeting \nNote:  Date moved to 3rd Monday of October due to Columbus Day holiday. \nLocation:  Shawnee\, Ohio\nShawnee Village Hall\n136 Main St.\nShawnee OH 43782 \n  We are rotating our meetings around the county to encourage community participation and discussion about local parks and needs. \nMeeting info is also available at:\nClick here for meeting information via the County’s website
URL:https://pcparkdistrict.com/calendar/pcpd-board-meeting-8/
LOCATION:Shawnee Village Hall\, 136 Main St.\, Shawnee\, OH\, 43782\, United States
CATEGORIES:Meeting
END:VEVENT
BEGIN:VEVENT
DTSTART;TZID=America/New_York:20210913T153000
DTEND;TZID=America/New_York:20210913T163000
DTSTAMP:20260424T010622
CREATED:20210124T215810Z
LAST-MODIFIED:20210913T182600Z
UID:4918-1631547000-1631550600@pcparkdistrict.com
SUMMARY:PCPD Board Meeting
DESCRIPTION:PCPD Board Meeting \nSept 13\, 3:30 pm\nPerry County Public Library – Thornville Branch\n99 E Columbus St\, Thornville\, OH 43076 \nThe public is invited to join us! \n** Masks required\, per Perry County Public Library
URL:https://pcparkdistrict.com/calendar/pcpd-board-meeting-7/
CATEGORIES:Meeting
END:VEVENT
BEGIN:VEVENT
DTSTART;TZID=America/New_York:20210809T153000
DTEND;TZID=America/New_York:20210809T170000
DTSTAMP:20260424T010622
CREATED:20210124T215652Z
LAST-MODIFIED:20210728T131736Z
UID:4916-1628523000-1628528400@pcparkdistrict.com
SUMMARY:PCPD Board Meeting
DESCRIPTION:PCPD Board Meeting \nWhen: August 9\, 2021 – 3:30pm\nWhere: Arethusa Springs Park -east shelter house\, near maintenance building\n        426 Fowler Ln\, New Lexington\, OH \nMeeting info is also available at:\nClick here for current PCPD meeting info on the Perry County government website
URL:https://pcparkdistrict.com/calendar/pcpd-board-meeting-6/
LOCATION:Arethusa Springs Park\, 426 Fowler Ln\, New Lexington\, OH\, 43764\, United States
CATEGORIES:Meeting
END:VEVENT
BEGIN:VEVENT
DTSTART;TZID=America/New_York:20210712T153000
DTEND;TZID=America/New_York:20210712T170000
DTSTAMP:20260424T010622
CREATED:20210124T215515Z
LAST-MODIFIED:20210728T131354Z
UID:4914-1626103800-1626109200@pcparkdistrict.com
SUMMARY:PCPD Board Meeting
DESCRIPTION:PCPD Board Meeting \nWhen: July 12 – 3:30pm\nWhere: Arethusa Springs Park -east shelter house\n        426 Fowler Ln\, New Lexington\, OH \nMeeting info is also available at:\nClick here for current PCPD meeting info on the Perry County government website
URL:https://pcparkdistrict.com/calendar/pcpd-board-meeting-5/
LOCATION:Arethusa Springs Park\, 426 Fowler Ln\, New Lexington\, OH\, 43764\, United States
CATEGORIES:Meeting
END:VEVENT
BEGIN:VEVENT
DTSTART;TZID=America/New_York:20210614T153000
DTEND;TZID=America/New_York:20210614T163000
DTSTAMP:20260424T010622
CREATED:20210124T215319Z
LAST-MODIFIED:20210511T024607Z
UID:4912-1623684600-1623688200@pcparkdistrict.com
SUMMARY:PCPD Board Meeting
DESCRIPTION:PCPD Board Meeting \nThe June 14\, 2021 Perry County Park District board meeting will be held in-person\, outdoors at: \nPerry County Health Department \n409 Lincoln Park Dr.\nNew Lexington\, OH \n(Lincoln Park Dr runs alongside the Kroger store. The Health Department isn’t far from Kroger\, on the opposite side of that road \n The meeting will begin at 3:30pm.  Please bring a chair. \nCurrent Health Department guidelines will be followed for all in-person meetings.
URL:https://pcparkdistrict.com/calendar/4912/
CATEGORIES:Meeting
END:VEVENT
BEGIN:VEVENT
DTSTART;TZID=America/New_York:20210510T153000
DTEND;TZID=America/New_York:20210510T163000
DTSTAMP:20260424T010622
CREATED:20210124T215134Z
LAST-MODIFIED:20210510T054612Z
UID:4910-1620660600-1620664200@pcparkdistrict.com
SUMMARY:PCPD Board Meeting
DESCRIPTION:PCPD Board Meeting \nThe May 10th\, Perry County Park District  board meeting will be conducted via Zoom at 3:30pm. The “waiting room” will open at 3:15p.  \n \nIf you want to join by computer or Zoom app on your phone\, click the link below.  You will be taken to a waiting room and the host will be notified to let you in the meeting\nClick Here to be taken to Zoom meeting \n*If you are not let into the meeting room within a few minutes of arriving in the waiting room\, please exit and click the meeting link again to re-enter the waiting room. \n===================== \nFYI-   You can also call in to this Zoom meeting by phone if you prefer.      \n-To call in by phone:Tip: have the meeting ID\, participant ID and passcode written down/readily available before you dial. The input requests will time-out if info is not entered fairly quickly.  Note: Sometimes the passcode is not requested. \n-Dial 301-715-8592 \nMeeting ID:  enter 993 3034 5969\nParticipant ID: enter #\nPasscode:  enter 137395 \nPhone controls: *6 – Toggle unmute/mute*9 – Raise hand \nIf you call in by phone\, it will welcome you to Zoom and \n1) it will ask for the Meeting ID followed by the # sign. (Best to have codes written down so you can enter info quickly)\n2)  Next it will ask: If you are the host -enter host Key  or if you are a participant\, press #. \n3) It will then ask for participant ID: Enter #\n4) Enter passcode if requested
URL:https://pcparkdistrict.com/calendar/pcpd-board-meeting-4/
CATEGORIES:Meeting
END:VEVENT
BEGIN:VEVENT
DTSTART;TZID=America/New_York:20210414T184500
DTEND;TZID=America/New_York:20210414T191500
DTSTAMP:20260424T010622
CREATED:20210414T130207Z
LAST-MODIFIED:20210414T130207Z
UID:6169-1618425900-1618427700@pcparkdistrict.com
SUMMARY:PCPD Continued Board Meeting
DESCRIPTION:PCPD Continued Board Meeting 6:45pm via Zoom \nZoom Link (paste into browser or use direct link below)\nhttps://us04web.zoom.us/j/72836219381?pwd=ZlIwWkZRRXlHb0NoVVhNR3pYTHBlQT09 \nMeeting ID: 728 3621 9381\nPasscode: nPDQX1 \nClick here to join ZOOM meeting
URL:https://pcparkdistrict.com/calendar/pcpd-continued-board-meeting/
LOCATION:Zoom\, United States
CATEGORIES:Meeting
END:VEVENT
BEGIN:VEVENT
DTSTART;TZID=America/New_York:20210412T153000
DTEND;TZID=America/New_York:20210412T163000
DTSTAMP:20260424T010622
CREATED:20210124T214916Z
LAST-MODIFIED:20210124T214916Z
UID:4908-1618241400-1618245000@pcparkdistrict.com
SUMMARY:PCPD Board Meeting
DESCRIPTION:PCPD Board Meeting \nClick here for current meeting location or ZOOM information
URL:https://pcparkdistrict.com/calendar/pcpd-board-meeting-3/
CATEGORIES:Meeting
END:VEVENT
BEGIN:VEVENT
DTSTART;TZID=America/New_York:20210308T153000
DTEND;TZID=America/New_York:20210308T163000
DTSTAMP:20260424T010622
CREATED:20210124T214753Z
LAST-MODIFIED:20210308T131238Z
UID:4906-1615217400-1615221000@pcparkdistrict.com
SUMMARY:PCPD Board Meeting
DESCRIPTION:PCPD Board Meeting\nThe March 8 Board Meeting is being conducted via ZOOM. \n If you want to join by computer or Zoom app on your phone\, click the link under “Zoom Meeting” below.  You will be taken to a waiting room and the host will be notified to let you in the meeting.\n*If you are not let into the meeting room within a couple of minutes of arriving in the waiting room\, please exit and click the meeting link again to re-enter the waiting room. \nZoom Meeting:\nClick here to join ZOOM meeting \n=====================\nTo call in by phone:\nTip: have the meeting ID\, participant ID and passcode written down/readily available before you dial. The input requests will time-out if info is not entered fairly quickly.  Note: Sometimes the passcode is not requested. \nDial 301-715-8592 \nMeeting ID:  enter 993 3034 5969\nParticipant ID: enter #\nPasscode:  enter 137395 \nPhone controls:\n*6 – Toggle unmute/mute\n*9 – Raise hand\n** Note:  there have sometimes been issues on some phones with being able to ‘unmute/mute’ via a phone call participation.  This is not something the host can control. \nIf you call in by phone\, it will welcome you to Zoom and\n1) it will ask for the Meeting ID followed by the # sign. (Best to have codes written down so you can enter info quickly)\n2)  Next will ask: if you are the host -enter host Key  or if you are a participant\, press #.\n3) Will ask for participant ID:\n Press #\n4) Enter passcode if requested \nThe ZOOM meeting link can also be found on the Perry County Government site at:\nPerryCountyOhio.net
URL:https://pcparkdistrict.com/calendar/pcpd-board-meeting-2/
CATEGORIES:Meeting
END:VEVENT
BEGIN:VEVENT
DTSTART;TZID=America/New_York:20210208T153000
DTEND;TZID=America/New_York:20210208T163000
DTSTAMP:20260424T010622
CREATED:20210124T213418Z
LAST-MODIFIED:20210208T194054Z
UID:4896-1612798200-1612801800@pcparkdistrict.com
SUMMARY:PCPD Board Meeting
DESCRIPTION:PCPD Board Meeting \nClick here for current meeting location or ZOOM information
URL:https://pcparkdistrict.com/calendar/pcpd-board-meeting/
LOCATION:Zoom\, United States
CATEGORIES:Meeting
END:VEVENT
BEGIN:VEVENT
DTSTART;TZID=America/New_York:20210111T153000
DTEND;TZID=America/New_York:20210111T163000
DTSTAMP:20260424T010622
CREATED:20210123T181710Z
LAST-MODIFIED:20210124T214411Z
UID:4892-1610379000-1610382600@pcparkdistrict.com
SUMMARY:PCPD Board Meeting
DESCRIPTION:PCPD Board Meeting \nClick here for current meeting location or ZOOM information
URL:https://pcparkdistrict.com/calendar/board-meeting-3/
CATEGORIES:Meeting
END:VEVENT
BEGIN:VEVENT
DTSTART;TZID=America/New_York:20201214T103000
DTEND;TZID=America/New_York:20201214T113000
DTSTAMP:20260424T010622
CREATED:20201020T004008Z
LAST-MODIFIED:20210124T214423Z
UID:3598-1607941800-1607945400@pcparkdistrict.com
SUMMARY:PCPD Board Meeting
DESCRIPTION:PCPD Board Meeting \nClick here for current meeting location or ZOOM information
URL:https://pcparkdistrict.com/calendar/board-meeting-2/
CATEGORIES:Meeting
END:VEVENT
BEGIN:VEVENT
DTSTART;TZID=America/New_York:20201109T103000
DTEND;TZID=America/New_York:20201109T113000
DTSTAMP:20260424T010622
CREATED:20201020T003918Z
LAST-MODIFIED:20210124T214326Z
UID:3596-1604917800-1604921400@pcparkdistrict.com
SUMMARY:PCPD Board Meeting
DESCRIPTION:PCPD Board Meeting \nClick here for current meeting location or ZOOM information
URL:https://pcparkdistrict.com/calendar/board-meeting/
CATEGORIES:Meeting
END:VEVENT
END:VCALENDAR