BEGIN:VCALENDAR
VERSION:2.0
PRODID:-//Perry County Park District - ECPv6.15.20//NONSGML v1.0//EN
CALSCALE:GREGORIAN
METHOD:PUBLISH
X-ORIGINAL-URL:https://pcparkdistrict.com
X-WR-CALDESC:Events for Perry County Park District
REFRESH-INTERVAL;VALUE=DURATION:PT1H
X-Robots-Tag:noindex
X-PUBLISHED-TTL:PT1H
BEGIN:VTIMEZONE
TZID:America/New_York
BEGIN:DAYLIGHT
TZOFFSETFROM:-0500
TZOFFSETTO:-0400
TZNAME:EDT
DTSTART:20240310T070000
END:DAYLIGHT
BEGIN:STANDARD
TZOFFSETFROM:-0400
TZOFFSETTO:-0500
TZNAME:EST
DTSTART:20241103T060000
END:STANDARD
BEGIN:DAYLIGHT
TZOFFSETFROM:-0500
TZOFFSETTO:-0400
TZNAME:EDT
DTSTART:20250309T070000
END:DAYLIGHT
BEGIN:STANDARD
TZOFFSETFROM:-0400
TZOFFSETTO:-0500
TZNAME:EST
DTSTART:20251102T060000
END:STANDARD
BEGIN:DAYLIGHT
TZOFFSETFROM:-0500
TZOFFSETTO:-0400
TZNAME:EDT
DTSTART:20260308T070000
END:DAYLIGHT
BEGIN:STANDARD
TZOFFSETFROM:-0400
TZOFFSETTO:-0500
TZNAME:EST
DTSTART:20261101T060000
END:STANDARD
END:VTIMEZONE
BEGIN:VEVENT
DTSTART;TZID=America/New_York:20250811T130000
DTEND;TZID=America/New_York:20250811T160000
DTSTAMP:20260424T023752
CREATED:20250801T063425Z
LAST-MODIFIED:20250926T030715Z
UID:7189-1754917200-1754928000@pcparkdistrict.com
SUMMARY:PCPD Board Meeting - August 2025 - New Straitsville
DESCRIPTION:PCPD Board Meeting – August 11\, 2025 \nLocation:  Village Office – Village of New Straitsville\n           SR 93\,  New Straitsville\, OH 43764 \nTime: 1:00pm \nThe Perry County Park District Board Meetings are on the move around the county April – November\, to give us the opportunity to engage with community leaders and county residents.  As always\, the public is invited\, and community participation and discussion about your local parks and park needs are encouraged! \nQuestions? Contact us at: info@PCparkdistrict.com for more information.
URL:https://pcparkdistrict.com/calendar/pcpd-board-meeting-august-2025-copy/
LOCATION:New Straitsville\, State Route 93\, New Straitsville\, OH\, 43766\, United States
CATEGORIES:Meeting
END:VEVENT
END:VCALENDAR