BEGIN:VCALENDAR
VERSION:2.0
PRODID:-//Perry County Park District - ECPv6.15.20//NONSGML v1.0//EN
CALSCALE:GREGORIAN
METHOD:PUBLISH
X-WR-CALNAME:Perry County Park District
X-ORIGINAL-URL:https://pcparkdistrict.com
X-WR-CALDESC:Events for Perry County Park District
REFRESH-INTERVAL;VALUE=DURATION:PT1H
X-Robots-Tag:noindex
X-PUBLISHED-TTL:PT1H
BEGIN:VTIMEZONE
TZID:America/New_York
BEGIN:DAYLIGHT
TZOFFSETFROM:-0500
TZOFFSETTO:-0400
TZNAME:EDT
DTSTART:20200308T070000
END:DAYLIGHT
BEGIN:STANDARD
TZOFFSETFROM:-0400
TZOFFSETTO:-0500
TZNAME:EST
DTSTART:20201101T060000
END:STANDARD
BEGIN:DAYLIGHT
TZOFFSETFROM:-0500
TZOFFSETTO:-0400
TZNAME:EDT
DTSTART:20210314T070000
END:DAYLIGHT
BEGIN:STANDARD
TZOFFSETFROM:-0400
TZOFFSETTO:-0500
TZNAME:EST
DTSTART:20211107T060000
END:STANDARD
BEGIN:DAYLIGHT
TZOFFSETFROM:-0500
TZOFFSETTO:-0400
TZNAME:EDT
DTSTART:20220313T070000
END:DAYLIGHT
BEGIN:STANDARD
TZOFFSETFROM:-0400
TZOFFSETTO:-0500
TZNAME:EST
DTSTART:20221106T060000
END:STANDARD
END:VTIMEZONE
BEGIN:VEVENT
DTSTART;TZID=America/New_York:20210817T080000
DTEND;TZID=America/New_York:20210817T100000
DTSTAMP:20260424T035535
CREATED:20210801T154913Z
LAST-MODIFIED:20210803T120009Z
UID:6215-1629187200-1629194400@pcparkdistrict.com
SUMMARY:Wildflower ID and Foraging Hike
DESCRIPTION:Join us……\nFor a Wildflower ID and Foraging hike at the Clay Center of Ohio!. \nWhen: Tuesday\, August 17\n*Hike – 8am\n*Additional plant ID session at pavillion – 9am \nWhere: Clay Center of Ohio\n7327 Ceramic Rd\, NE\, Roseville\, OH 43777 \nJoin the Perry County Park District to explore the Clay Center of Ohio in Roseville! This program is presented in partnership with the Clay Center of Ohio and the Perry Neighborhood Connection Coalition. \nThe hike will be conducted on varied terrain. Sturdy walking/hiking footwear\, water and insect repellent recommended. \nHighlights:\n*Wildflower and other plant ID\n*Tips and ID for foraging for edibles \nQuestions? Contact\npcparks@perrycountyohio.net or jlaruepchd@gmail.com for more information.
URL:https://pcparkdistrict.com/calendar/wildflower-id-and-foraging-hike/
LOCATION:Clay Center of Ohio\, 7327 Ceramic Rd\, NE\, Roseville\, OH\, 43777\, United States
CATEGORIES:Family,Hiking,Trees,Wellness,Wildflowers
END:VEVENT
END:VCALENDAR