BEGIN:VCALENDAR
VERSION:2.0
PRODID:-//Perry County Park District - ECPv6.15.20//NONSGML v1.0//EN
CALSCALE:GREGORIAN
METHOD:PUBLISH
X-ORIGINAL-URL:https://pcparkdistrict.com
X-WR-CALDESC:Events for Perry County Park District
REFRESH-INTERVAL;VALUE=DURATION:PT1H
X-Robots-Tag:noindex
X-PUBLISHED-TTL:PT1H
BEGIN:VTIMEZONE
TZID:America/New_York
BEGIN:DAYLIGHT
TZOFFSETFROM:-0500
TZOFFSETTO:-0400
TZNAME:EDT
DTSTART:20240310T070000
END:DAYLIGHT
BEGIN:STANDARD
TZOFFSETFROM:-0400
TZOFFSETTO:-0500
TZNAME:EST
DTSTART:20241103T060000
END:STANDARD
BEGIN:DAYLIGHT
TZOFFSETFROM:-0500
TZOFFSETTO:-0400
TZNAME:EDT
DTSTART:20250309T070000
END:DAYLIGHT
BEGIN:STANDARD
TZOFFSETFROM:-0400
TZOFFSETTO:-0500
TZNAME:EST
DTSTART:20251102T060000
END:STANDARD
BEGIN:DAYLIGHT
TZOFFSETFROM:-0500
TZOFFSETTO:-0400
TZNAME:EDT
DTSTART:20260308T070000
END:DAYLIGHT
BEGIN:STANDARD
TZOFFSETFROM:-0400
TZOFFSETTO:-0500
TZNAME:EST
DTSTART:20261101T060000
END:STANDARD
END:VTIMEZONE
BEGIN:VEVENT
DTSTART;TZID=America/New_York:20251026T140000
DTEND;TZID=America/New_York:20251026T160000
DTSTAMP:20260424T023930
CREATED:20251020T134126Z
LAST-MODIFIED:20251103T145153Z
UID:7210-1761487200-1761494400@pcparkdistrict.com
SUMMARY:Plein Air - Glenford Fort
DESCRIPTION:Plein Air in the Park! 🎨\nLooking for a fun\, creative way to spend your weekend? Join us with the Somerset Artist Coo-p for Plein Air in the Park\, an outdoor art experience with Jessie Bennett and the Perry County Park District! \n🗓 Sunday\, October 26 \n🕑 2:00 PM – 4:00 PM \n📍 Glenford Fort Preserve \n FREE EVENT \nBring your art supplies and let nature be your inspiration and let your creativity take flight. 🌤\nAll ages and skill levels welcome — come paint\, draw\, or sketch in the beauty of the park. \n✨ Free & open to the public no registration required
URL:https://pcparkdistrict.com/calendar/plein_air_10-26_25/
LOCATION:Glenford Fort Preserve\, 11995 State Route 757\, Glenford\, Ohio\, 43739
CATEGORIES:Education,Family,Nature,Wildlife
END:VEVENT
END:VCALENDAR