BEGIN:VCALENDAR
VERSION:2.0
PRODID:-//Perry County Park District - ECPv6.15.20//NONSGML v1.0//EN
CALSCALE:GREGORIAN
METHOD:PUBLISH
X-ORIGINAL-URL:https://pcparkdistrict.com
X-WR-CALDESC:Events for Perry County Park District
REFRESH-INTERVAL;VALUE=DURATION:PT1H
X-Robots-Tag:noindex
X-PUBLISHED-TTL:PT1H
BEGIN:VTIMEZONE
TZID:America/New_York
BEGIN:DAYLIGHT
TZOFFSETFROM:-0500
TZOFFSETTO:-0400
TZNAME:EDT
DTSTART:20240310T070000
END:DAYLIGHT
BEGIN:STANDARD
TZOFFSETFROM:-0400
TZOFFSETTO:-0500
TZNAME:EST
DTSTART:20241103T060000
END:STANDARD
BEGIN:DAYLIGHT
TZOFFSETFROM:-0500
TZOFFSETTO:-0400
TZNAME:EDT
DTSTART:20250309T070000
END:DAYLIGHT
BEGIN:STANDARD
TZOFFSETFROM:-0400
TZOFFSETTO:-0500
TZNAME:EST
DTSTART:20251102T060000
END:STANDARD
BEGIN:DAYLIGHT
TZOFFSETFROM:-0500
TZOFFSETTO:-0400
TZNAME:EDT
DTSTART:20260308T070000
END:DAYLIGHT
BEGIN:STANDARD
TZOFFSETFROM:-0400
TZOFFSETTO:-0500
TZNAME:EST
DTSTART:20261101T060000
END:STANDARD
END:VTIMEZONE
BEGIN:VEVENT
DTSTART;TZID=America/New_York:20251103T180000
DTEND;TZID=America/New_York:20251103T200000
DTSTAMP:20260424T011440
CREATED:20251103T161332Z
LAST-MODIFIED:20251103T161642Z
UID:7233-1762192800-1762200000@pcparkdistrict.com
SUMMARY:Fall Painting Class
DESCRIPTION:Fall Painting Class with instructor Bobbi McKinnon \nMonday\, November 3\, 2025\n6-8pm\nSomerset Artists’ Co-op\,  206 S. Market St\, Somerset OH 43783 \nSee flyer below for details. \nThanks to a grant from the Ohio Arts Council\, this program is free and hosted by the Perry County Park District. \nRegister via email at: jbennett@PCparkdistrict.com or request more information.
URL:https://pcparkdistrict.com/calendar/fall_painting_class_nov_3_2025/
LOCATION:Somerset Artists’ Co-op\, 206 S. Market St\, Somerset\, 43783\, United States
CATEGORIES:Art,Cultural,Family
END:VEVENT
BEGIN:VEVENT
DTSTART;TZID=America/New_York:20251111T140000
DTEND;TZID=America/New_York:20251111T160000
DTSTAMP:20260424T011440
CREATED:20250922T062751Z
LAST-MODIFIED:20250922T062916Z
UID:7184-1762869600-1762876800@pcparkdistrict.com
SUMMARY:Critter Care - Fall 2025 Nov
DESCRIPTION:Critter Care \nJoin the PCPD as we care for our critters on the following dates: \nTuesdays – September 9\, October 14\, November 11\n2-4pm \nGlenford Fort Preserve\,  11995 OH-757\, Glenford\, OH \nWe have live turtles\, snakes\, frogs\, and spiders that we use for educational programs throughout the county. We invite you to join us to take an active part in their care\, feeding\, and enrichment. \nRegistration via email would be appreciated. Send to:\n  jbennett@pcparkdistrict.com
URL:https://pcparkdistrict.com/calendar/critter_care_11_11_25/
LOCATION:Glenford Fort Preserve\, 11995 State Route 757\, Glenford\, Ohio\, 43739
CATEGORIES:Education,Family,Nature,Wildlife
END:VEVENT
END:VCALENDAR