BEGIN:VCALENDAR
VERSION:2.0
PRODID:-//Perry County Park District - ECPv6.15.20//NONSGML v1.0//EN
CALSCALE:GREGORIAN
METHOD:PUBLISH
X-WR-CALNAME:Perry County Park District
X-ORIGINAL-URL:https://pcparkdistrict.com
X-WR-CALDESC:Events for Perry County Park District
REFRESH-INTERVAL;VALUE=DURATION:PT1H
X-Robots-Tag:noindex
X-PUBLISHED-TTL:PT1H
BEGIN:VTIMEZONE
TZID:America/New_York
BEGIN:DAYLIGHT
TZOFFSETFROM:-0500
TZOFFSETTO:-0400
TZNAME:EDT
DTSTART:20240310T070000
END:DAYLIGHT
BEGIN:STANDARD
TZOFFSETFROM:-0400
TZOFFSETTO:-0500
TZNAME:EST
DTSTART:20241103T060000
END:STANDARD
BEGIN:DAYLIGHT
TZOFFSETFROM:-0500
TZOFFSETTO:-0400
TZNAME:EDT
DTSTART:20250309T070000
END:DAYLIGHT
BEGIN:STANDARD
TZOFFSETFROM:-0400
TZOFFSETTO:-0500
TZNAME:EST
DTSTART:20251102T060000
END:STANDARD
BEGIN:DAYLIGHT
TZOFFSETFROM:-0500
TZOFFSETTO:-0400
TZNAME:EDT
DTSTART:20260308T070000
END:DAYLIGHT
BEGIN:STANDARD
TZOFFSETFROM:-0400
TZOFFSETTO:-0500
TZNAME:EST
DTSTART:20261101T060000
END:STANDARD
END:VTIMEZONE
BEGIN:VEVENT
DTSTART;TZID=America/New_York:20251103T180000
DTEND;TZID=America/New_York:20251103T200000
DTSTAMP:20260423T210907
CREATED:20251103T161332Z
LAST-MODIFIED:20251103T161642Z
UID:7233-1762192800-1762200000@pcparkdistrict.com
SUMMARY:Fall Painting Class
DESCRIPTION:Fall Painting Class with instructor Bobbi McKinnon \nMonday\, November 3\, 2025\n6-8pm\nSomerset Artists’ Co-op\,  206 S. Market St\, Somerset OH 43783 \nSee flyer below for details. \nThanks to a grant from the Ohio Arts Council\, this program is free and hosted by the Perry County Park District. \nRegister via email at: jbennett@PCparkdistrict.com or request more information.
URL:https://pcparkdistrict.com/calendar/fall_painting_class_nov_3_2025/
LOCATION:Somerset Artists’ Co-op\, 206 S. Market St\, Somerset\, 43783\, United States
CATEGORIES:Art,Cultural,Family
END:VEVENT
BEGIN:VEVENT
DTSTART;TZID=America/New_York:20250414T180000
DTEND;TZID=America/New_York:20250414T200000
DTSTAMP:20260423T210907
CREATED:20250310T061152Z
LAST-MODIFIED:20250310T062505Z
UID:7071-1744653600-1744660800@pcparkdistrict.com
SUMMARY:Spring Painting Class
DESCRIPTION:Spring Painting Class with instructor Bobbi McKinnon \nMonday\, April 14\, 2025\n6-8pm\nSomerset Artists’ Co-op\,  206 S. Market St\, Somerset OH 43783 \nSee flyer below for details. \nThanks to a grant from the Ohio Arts Council\, this program is free and hosted by the Perry County Park District. \nRegister via email at: jbennett@PCparkdistrict.com or request more information.
URL:https://pcparkdistrict.com/calendar/spring_painting_class_april_14_2025/
LOCATION:Somerset Artists’ Co-op\, 206 S. Market St\, Somerset\, 43783\, United States
CATEGORIES:Art,Cultural,Family
END:VEVENT
BEGIN:VEVENT
DTSTART;TZID=America/New_York:20250413T140000
DTEND;TZID=America/New_York:20250413T170000
DTSTAMP:20260423T210907
CREATED:20250310T142127Z
LAST-MODIFIED:20250310T143815Z
UID:7084-1744552800-1744563600@pcparkdistrict.com
SUMMARY:Paracord Weaving
DESCRIPTION:Paracord Weaving Class with instructor Tami McAdams \nSunday\, April 13\, 2025\n2-5pm\nLudowici Tile Plant – Factory of Ideas event building\n4757 Tile Plant Rd\, New Lexington\, OH 43764 \nThe instructor will detail the steps of tying useful knots you’ll use often for camping\, at home\, at work\, boating\, etc.\nParticipants will create their choice of Solomon Bar (cobra knot) paracord project to take home:\n………keychain\, bracelet\, or neck lanyard. \nThe class will be 2-3 hrs in length\, depending on which project the participant chooses (neck lanyard takes the longest). \nThanks to a grant from the Ohio Arts Council\, this program is free and hosted by the Perry County Park District.   All materials will be provided by the instructor. \nRegister via email at: jbennett@PCparkdistrict.com or request more information.
URL:https://pcparkdistrict.com/calendar/paracord_weaving_class_april_13_2025-copy/
LOCATION:Ludowici Factory of Ideas\, 4757 Tile Plant Rd\, New Lexington\, Ohio\, 43764
CATEGORIES:Art,Cultural,Family
END:VEVENT
BEGIN:VEVENT
DTSTART;TZID=America/New_York:20250411T180000
DTEND;TZID=America/New_York:20250411T200000
DTSTAMP:20260423T210907
CREATED:20250310T054819Z
LAST-MODIFIED:20250317T005940Z
UID:7059-1744394400-1744401600@pcparkdistrict.com
SUMMARY:Soap Making
DESCRIPTION:Soap Making with instructor Katrina Carpenter. \nPLEASE NOTE DATE CHANGE\nFriday\, April 11\, 2025   (was March 21)\n6pm\nGlenford Fort Preserve – On 757 south of Glenford\, Ohio \nSee flyer below for details. \nThanks to a grant from the Ohio Arts Council\, this program is free and hosted by the Perry County Park District. \nRegister via email at: jbennett@PCparkdistrict.com or request more information.
URL:https://pcparkdistrict.com/calendar/soap_making_apr_11_2025/
LOCATION:Glenford Fort Preserve\, 11995 State Route 757\, Glenford\, Ohio\, 43739
CATEGORIES:Art,Cultural,Education
END:VEVENT
BEGIN:VEVENT
DTSTART;TZID=America/New_York:20250316T090000
DTEND;TZID=America/New_York:20250316T170000
DTSTAMP:20260423T210907
CREATED:20250310T060601Z
LAST-MODIFIED:20250310T062638Z
UID:7067-1742115600-1742144400@pcparkdistrict.com
SUMMARY:Hide Tanning
DESCRIPTION:Hide Tanning with instructor Talcon Quinn \nSunday\, March 16\, 2025\n9am-5pm\nCorning Civic Center\,   115 S. Corning Ave\,  Corning\, OH 43730 \nSee flyer below for details. \nThanks to a grant from the Ohio Arts Council\, this program is free and hosted by the Perry County Park District. \nFor more information\, email: jbennett@PCparkdistrict.com
URL:https://pcparkdistrict.com/calendar/hide_tannning_mar_16_2025/
LOCATION:Corning Civic Center\, 115 S. Corning Ave\, Corning\, 43730\, United States
CATEGORIES:Art,Cultural,Education
END:VEVENT
BEGIN:VEVENT
DTSTART;TZID=America/New_York:20250315T180000
DTEND;TZID=America/New_York:20250315T190000
DTSTAMP:20260423T210907
CREATED:20250310T055859Z
LAST-MODIFIED:20250310T062844Z
UID:7063-1742061600-1742065200@pcparkdistrict.com
SUMMARY:Wildlife Photography
DESCRIPTION:Wildlife Photography with Brad Imhoff \nSaturday\, March 15\, 2025\n6pm-7pm\nHoover Center Theater- 125 E. High St\, Glenford\, Ohio \nSee flyer below for details. \nThanks to a grant from the Ohio Arts Council\, this program is free and hosted by the Perry County Park District. \nFor more information\, email: jbennett@PCparkdistrict.com
URL:https://pcparkdistrict.com/calendar/wildlife_photography_mar_15_2025/
LOCATION:Hoover Center Theater\, 125 E. Main St\, Glenford\, OH\, 43739\, United States
CATEGORIES:Art,Lecture,Photography
END:VEVENT
BEGIN:VEVENT
DTSTART;TZID=America/New_York:20250308T120000
DTEND;TZID=America/New_York:20250308T150000
DTSTAMP:20260423T210907
CREATED:20250305T060652Z
LAST-MODIFIED:20250310T062951Z
UID:7050-1741435200-1741446000@pcparkdistrict.com
SUMMARY:Basket Weaving
DESCRIPTION:Basket Weaving with instructor Ann Cornell. \nSaturday\, March 8\, 2025\n12pm\nPerry County District Library – Somerset Branch (117 W Main St\, Somerset\, OH) \nSee flyer below for details. \nThanks to a grant from the Ohio Arts Council\, this program is free and hosted by the Perry County Park District. \nRegister via email at: jbennett@PCparkdistrict.com or request more information.
URL:https://pcparkdistrict.com/calendar/basket_weaving_mar_8_2025/
LOCATION:Perry Co District Library – Somerset\, 117 West Main Street\, Somerset\, OH\, 43783
CATEGORIES:Art,Cultural,Education
END:VEVENT
END:VCALENDAR