BEGIN:VCALENDAR
VERSION:2.0
PRODID:-//Perry County Park District - ECPv6.15.20//NONSGML v1.0//EN
CALSCALE:GREGORIAN
METHOD:PUBLISH
X-ORIGINAL-URL:https://pcparkdistrict.com
X-WR-CALDESC:Events for Perry County Park District
REFRESH-INTERVAL;VALUE=DURATION:PT1H
X-Robots-Tag:noindex
X-PUBLISHED-TTL:PT1H
BEGIN:VTIMEZONE
TZID:America/New_York
BEGIN:DAYLIGHT
TZOFFSETFROM:-0500
TZOFFSETTO:-0400
TZNAME:EDT
DTSTART:20240310T070000
END:DAYLIGHT
BEGIN:STANDARD
TZOFFSETFROM:-0400
TZOFFSETTO:-0500
TZNAME:EST
DTSTART:20241103T060000
END:STANDARD
BEGIN:DAYLIGHT
TZOFFSETFROM:-0500
TZOFFSETTO:-0400
TZNAME:EDT
DTSTART:20250309T070000
END:DAYLIGHT
BEGIN:STANDARD
TZOFFSETFROM:-0400
TZOFFSETTO:-0500
TZNAME:EST
DTSTART:20251102T060000
END:STANDARD
BEGIN:DAYLIGHT
TZOFFSETFROM:-0500
TZOFFSETTO:-0400
TZNAME:EDT
DTSTART:20260308T070000
END:DAYLIGHT
BEGIN:STANDARD
TZOFFSETFROM:-0400
TZOFFSETTO:-0500
TZNAME:EST
DTSTART:20261101T060000
END:STANDARD
END:VTIMEZONE
BEGIN:VEVENT
DTSTART;TZID=America/New_York:20250617T163000
DTEND;TZID=America/New_York:20250617T180000
DTSTAMP:20260424T035449
CREATED:20250616T052918Z
LAST-MODIFIED:20250616T054310Z
UID:7152-1750177800-1750183200@pcparkdistrict.com
SUMMARY:PCPD Board Special Meeting - June 17 2025 - Thornville
DESCRIPTION:PCPD Board – Special Meeting – June 17\, 2025 \nLocation:  Thornville Public Library\,  99 E. Columbus St\, Thornville\, OH 43076 \nTime: 4:30pm \nThe Perry County Park District Board of Park Commissioners will hold a Special Meeting on Tuesday\, June 17\, 2025\, at 4:30 PM\, at the Thornville Public Library\, located at 99 E Columbus St\, Thornville\, OH 43076\, for the purpose of review and discussion of a financial inquiry. The meeting is open to the public. \nQuestions? Contact us at: info@PCparkdistrict.com for more information.
URL:https://pcparkdistrict.com/calendar/pcpd-board-special-meeting-june-17-2025/
LOCATION:Perry Co District Library – Thornville\, 99 East Columbus Street\, Thornville\, OH\, 43706\, United States
CATEGORIES:Meeting
END:VEVENT
END:VCALENDAR